BEGIN:VCALENDAR
VERSION:2.0
PRODID:-//Gloucester County Habitat for Humanity - ECPv6.15.20//NONSGML v1.0//EN
CALSCALE:GREGORIAN
METHOD:PUBLISH
X-WR-CALNAME:Gloucester County Habitat for Humanity
X-ORIGINAL-URL:https://gc-habitat.org
X-WR-CALDESC:Events for Gloucester County Habitat for Humanity
REFRESH-INTERVAL;VALUE=DURATION:PT1H
X-Robots-Tag:noindex
X-PUBLISHED-TTL:PT1H
BEGIN:VTIMEZONE
TZID:UTC
BEGIN:STANDARD
TZOFFSETFROM:+0000
TZOFFSETTO:+0000
TZNAME:UTC
DTSTART:20220101T000000
END:STANDARD
END:VTIMEZONE
BEGIN:VEVENT
DTSTART;TZID=UTC:20231128T160000
DTEND;TZID=UTC:20231128T173000
DTSTAMP:20260421T155930
CREATED:20231109T173923Z
LAST-MODIFIED:20231109T173923Z
UID:2714-1701187200-1701192600@gc-habitat.org
SUMMARY:Home Dedication Ceremony
DESCRIPTION:You’re invited to join us in Clayton at the Home Dedication Ceremony.
URL:https://gc-habitat.org/event/home-dedication-ceremony/
LOCATION:48 West Howard\, Clayton NJ\, 48 West Howard Street\, Clayton\, 08312\, United States
CATEGORIES:Events
ATTACH;FMTTYPE=image/jpeg:https://gc-habitat.org/wp-content/uploads/2023/11/home-dedication.jpg
END:VEVENT
END:VCALENDAR