BEGIN:VCALENDAR
VERSION:2.0
PRODID:-//Gloucester County Habitat for Humanity - ECPv6.15.20//NONSGML v1.0//EN
CALSCALE:GREGORIAN
METHOD:PUBLISH
X-ORIGINAL-URL:https://gc-habitat.org
X-WR-CALDESC:Events for Gloucester County Habitat for Humanity
REFRESH-INTERVAL;VALUE=DURATION:PT1H
X-Robots-Tag:noindex
X-PUBLISHED-TTL:PT1H
BEGIN:VTIMEZONE
TZID:UTC
BEGIN:STANDARD
TZOFFSETFROM:+0000
TZOFFSETTO:+0000
TZNAME:UTC
DTSTART:20230101T000000
END:STANDARD
END:VTIMEZONE
BEGIN:VEVENT
DTSTART;TZID=UTC:20240814T180000
DTEND;TZID=UTC:20240814T200000
DTSTAMP:20260423T225207
CREATED:20240731T191056Z
LAST-MODIFIED:20240801T182244Z
UID:2929-1723658400-1723665600@gc-habitat.org
SUMMARY:New Home Buyer Orientation- Virtual
DESCRIPTION:Event Details (Virtual Event)\nJoin us for a in-depth look at our Affordable Homeownership program from the application process\, through closing and purchase of your new home. \nDate and Time\n\nWednesday\, Aug 14\, 2024\n6:00pm – 8:00pm EDT\n\n  \n*We are now accepting applications through August 31\, 2024. Visit our Homeownership page HERE to download the application. \nA link to the meeting will be emailed before the start of the event. \nRegister Here: \nhttps://gc-habitat.harnessgiving.org/events/2018
URL:https://gc-habitat.org/event/new-home-buyer-orientation-virtual/
LOCATION:NJ
CATEGORIES:Events
ATTACH;FMTTYPE=image/webp:https://gc-habitat.org/wp-content/uploads/2024/07/high169desktop.webp
END:VEVENT
END:VCALENDAR