BEGIN:VCALENDAR
VERSION:2.0
PRODID:-//Gloucester County Habitat for Humanity - ECPv6.15.20//NONSGML v1.0//EN
CALSCALE:GREGORIAN
METHOD:PUBLISH
X-WR-CALNAME:Gloucester County Habitat for Humanity
X-ORIGINAL-URL:https://gc-habitat.org
X-WR-CALDESC:Events for Gloucester County Habitat for Humanity
REFRESH-INTERVAL;VALUE=DURATION:PT1H
X-Robots-Tag:noindex
X-PUBLISHED-TTL:PT1H
BEGIN:VTIMEZONE
TZID:UTC
BEGIN:STANDARD
TZOFFSETFROM:+0000
TZOFFSETTO:+0000
TZNAME:UTC
DTSTART:20230101T000000
END:STANDARD
END:VTIMEZONE
BEGIN:VEVENT
DTSTART;TZID=UTC:20240817T100000
DTEND;TZID=UTC:20240817T120000
DTSTAMP:20260424T035753
CREATED:20240731T192204Z
LAST-MODIFIED:20240801T182546Z
UID:2932-1723888800-1723896000@gc-habitat.org
SUMMARY:New Home Buyer Orientation- In person
DESCRIPTION:Event Details (In Person)\nJoin us at Penzone Realty in Glassboro\, NJ for a in-depth look at our Affordable Homeownership program from the application process\, through closing and purchase of your new home. \nDate and Time\nSaturday\, Aug 17\, 2024\n10:00am – 12:00pm EDT \n \nLocation\n3 High Street East\nGlassboro\, NJ 08028 \n*We are now accepting applications through August 31\, 2024. Visit our Homeownership page HERE to download the application. \n  \nRegister Here: \nhttps://gc-habitat.harnessgiving.org/events/2019
URL:https://gc-habitat.org/event/new-home-buyer-orientation-in-person/
LOCATION:3 High Street East Glassboro\, NJ 08028\, 3 High Street East\, Glassboro\, NJ 08028\, NJ\, 08028\, United States
CATEGORIES:Events
ATTACH;FMTTYPE=image/webp:https://gc-habitat.org/wp-content/uploads/2024/07/high169desktop.webp
END:VEVENT
END:VCALENDAR