BEGIN:VCALENDAR
VERSION:2.0
PRODID:-//Gloucester County Habitat for Humanity - ECPv6.15.20//NONSGML v1.0//EN
CALSCALE:GREGORIAN
METHOD:PUBLISH
X-ORIGINAL-URL:https://gc-habitat.org
X-WR-CALDESC:Events for Gloucester County Habitat for Humanity
REFRESH-INTERVAL;VALUE=DURATION:PT1H
X-Robots-Tag:noindex
X-PUBLISHED-TTL:PT1H
BEGIN:VTIMEZONE
TZID:UTC
BEGIN:STANDARD
TZOFFSETFROM:+0000
TZOFFSETTO:+0000
TZNAME:UTC
DTSTART:20230101T000000
END:STANDARD
END:VTIMEZONE
BEGIN:VEVENT
DTSTART;TZID=UTC:20240914T080000
DTEND;TZID=UTC:20240914T150000
DTSTAMP:20260424T023343
CREATED:20240628T121846Z
LAST-MODIFIED:20240731T192739Z
UID:2918-1726300800-1726326000@gc-habitat.org
SUMMARY:Rock The Block
DESCRIPTION:Rock The Block\nSaturday 9.14 8AM-3PM\nJoin us as we celebrate the kick off to our new Repairs Program with our one-day event aimed at bringing together the community to help families fix up their homes and age in place. Our event day will consist of 5 houses within the same neighborhood in need of minor outdoor repairs. Each house sponsor will be responsible for raising the $5\,000 House Sponsorship. Click Here To Register \nSponsorship Opportunities\nHouse Sponsor (5): $5\,000\n\nIncludes event shirt with logo included\, up to 6 volunteers on site on the day of the event\, exclusive sign at home location\, social media and website spotlight\, exclusive press release.\nNote: Since there are 5 homes\, we will be taking the first 5 house sponsors.\n\nRoof Sponsor: $2\,500\n\nIncludes event shirt with logo included\, includes invitation to event kick off on morning of event\, social media and website mention\, mention in press release\, logo on event signage.\n\nWindow Sponsor: $1\,000\n\nIncludes invitation to event kick off on morning of event\, social media and website mention\, mention in press release\, logo on event signage.\n\nAdditional Sponsors: $500\n\nBreakfast\nLunch\nBeverage\nSnack\nShuttle\n\nPrizes will be awarded for:\n\nBest team theme\nMost money raised\nMost team spirit\n\n\nSecure Your Sponsorship Now \nContact Sarah at: \n\nPhone: 856-256-9400 x4\nEmail: smerz@gc-habitat.org\n\nNote: Please be aware that the event is weather contingent and in the case of inclement weather\, repairs will be rescheduled with individual sponsors in accordance with our construction team. \n 
URL:https://gc-habitat.org/event/rock-the-block/
LOCATION:Gloucester County NJ\, 08071\, United States
CATEGORIES:Events
ATTACH;FMTTYPE=image/jpeg:https://gc-habitat.org/wp-content/uploads/2024/06/banner-1.jpg
END:VEVENT
END:VCALENDAR