BEGIN:VCALENDAR
VERSION:2.0
PRODID:-//Gloucester County Habitat for Humanity - ECPv6.15.20//NONSGML v1.0//EN
CALSCALE:GREGORIAN
METHOD:PUBLISH
X-ORIGINAL-URL:https://gc-habitat.org
X-WR-CALDESC:Events for Gloucester County Habitat for Humanity
REFRESH-INTERVAL;VALUE=DURATION:PT1H
X-Robots-Tag:noindex
X-PUBLISHED-TTL:PT1H
BEGIN:VTIMEZONE
TZID:UTC
BEGIN:STANDARD
TZOFFSETFROM:+0000
TZOFFSETTO:+0000
TZNAME:UTC
DTSTART:20230101T000000
END:STANDARD
END:VTIMEZONE
BEGIN:VEVENT
DTSTART;TZID=UTC:20241019T100000
DTEND;TZID=UTC:20241019T120000
DTSTAMP:20260424T024056
CREATED:20241009T194257Z
LAST-MODIFIED:20241009T194257Z
UID:2952-1729332000-1729339200@gc-habitat.org
SUMMARY:New Home Buyer Orientation- Virtual OR In-Person
DESCRIPTION:Event Details \n\n\n\n\n\n\n\n\n\n\n\nJoin us virtually OR in person for a in-depth look at our Affordable Homeownership program from the application process\, through closing and purchase of your new home. \n*We are now accepting applications through November 15\, 2024. Visit our Homeownership page HERE to download the application\, \n\n\n\n\n\n 
URL:https://gc-habitat.org/event/new-home-buyer-orientation-virtual-or-in-person/
LOCATION:NJ
CATEGORIES:Events
ATTACH;FMTTYPE=image/jpeg:https://gc-habitat.org/wp-content/uploads/2024/10/house.jpg
END:VEVENT
BEGIN:VEVENT
DTSTART;TZID=UTC:20241024T180000
DTEND;TZID=UTC:20241024T200000
DTSTAMP:20260424T024056
CREATED:20241009T194849Z
LAST-MODIFIED:20241009T195656Z
UID:2954-1729792800-1729800000@gc-habitat.org
SUMMARY:New Home Buyer Orientation- Virtual
DESCRIPTION:Event Details\n\nJoin us virtually for a in-depth look at our Affordable Homeownership program from the application process\, through closing and purchase of your new home. \n  \n*We are now accepting applications through November 15\, 2024. Visit our Homeownership page HERE to download the application
URL:https://gc-habitat.org/event/new-home-buyer-orientation-virtual-2/
LOCATION:NJ
CATEGORIES:Events
ATTACH;FMTTYPE=image/jpeg:https://gc-habitat.org/wp-content/uploads/2024/10/house.jpg
END:VEVENT
END:VCALENDAR